BEGIN:VCALENDAR
VERSION:2.0
PRODID:-//Merav Gur Arie - ECPv6.15.20//NONSGML v1.0//EN
CALSCALE:GREGORIAN
METHOD:PUBLISH
X-ORIGINAL-URL:https://merav-gur-arie.com
X-WR-CALDESC:Events for Merav Gur Arie
REFRESH-INTERVAL;VALUE=DURATION:PT1H
X-Robots-Tag:noindex
X-PUBLISHED-TTL:PT1H
BEGIN:VTIMEZONE
TZID:Europe/Paris
BEGIN:DAYLIGHT
TZOFFSETFROM:+0100
TZOFFSETTO:+0200
TZNAME:CEST
DTSTART:20170326T010000
END:DAYLIGHT
BEGIN:STANDARD
TZOFFSETFROM:+0200
TZOFFSETTO:+0100
TZNAME:CET
DTSTART:20171029T010000
END:STANDARD
BEGIN:DAYLIGHT
TZOFFSETFROM:+0100
TZOFFSETTO:+0200
TZNAME:CEST
DTSTART:20180325T010000
END:DAYLIGHT
BEGIN:STANDARD
TZOFFSETFROM:+0200
TZOFFSETTO:+0100
TZNAME:CET
DTSTART:20181028T010000
END:STANDARD
BEGIN:DAYLIGHT
TZOFFSETFROM:+0100
TZOFFSETTO:+0200
TZNAME:CEST
DTSTART:20190331T010000
END:DAYLIGHT
BEGIN:STANDARD
TZOFFSETFROM:+0200
TZOFFSETTO:+0100
TZNAME:CET
DTSTART:20191027T010000
END:STANDARD
BEGIN:DAYLIGHT
TZOFFSETFROM:+0100
TZOFFSETTO:+0200
TZNAME:CEST
DTSTART:20200329T010000
END:DAYLIGHT
BEGIN:STANDARD
TZOFFSETFROM:+0200
TZOFFSETTO:+0100
TZNAME:CET
DTSTART:20201025T010000
END:STANDARD
END:VTIMEZONE
BEGIN:VTIMEZONE
TZID:UTC
BEGIN:STANDARD
TZOFFSETFROM:+0000
TZOFFSETTO:+0000
TZNAME:UTC
DTSTART:20170101T000000
END:STANDARD
END:VTIMEZONE
BEGIN:VEVENT
DTSTART;TZID=Europe/Paris:20191116T100000
DTEND;TZID=Europe/Paris:20191116T143000
DTSTAMP:20260425T173939
CREATED:20190215T115238Z
LAST-MODIFIED:20190808T075227Z
UID:31107-1573898400-1573914600@merav-gur-arie.com
SUMMARY:Feminine Strength – Workshop
DESCRIPTION:This workshop is intended for women who would like to discover their own natural strengths and qualities and experience their inner wisdom. When we connect to ourselves; our body\, emotions and thoughts\, we become more centred and gain clarity about what we need and want. Our perception widens and the passion and joy of life are naturally experienced and expressed. \nIn this workshop\, women will explore and connect to their body and feminine strength in a safe environment\, creating a solid base from which to better handle any of their current life challenges.\nIn this workshop you will:\n• Deepen your connection to the pelvis area\n• Learn to quieten your mind without losing energy\n• Connect to your experiences\, needs and wishes\n• Identify your individual strengths and qualities\n• Get in touch with the healing powers within you to support healing of feminine physical conditions
URL:https://merav-gur-arie.com/event/feminine-strength-workshop/
LOCATION:Pantarei Approach\, Winsstr. 60\, Berlin\, 10405\, Germany
CATEGORIES:Feminine Strength,Personal Sessions
ATTACH;FMTTYPE=image/jpeg:https://merav-gur-arie.com/wp-content/uploads/2018/09/MG_9714-Edit-FB.jpg
ORGANIZER;CN="Merav":MAILTO:merav@merav-gur-arie.com
END:VEVENT
BEGIN:VEVENT
DTSTART;TZID=Europe/Paris:20190612T100000
DTEND;TZID=Europe/Paris:20190612T143000
DTSTAMP:20260425T173939
CREATED:20180912T202528Z
LAST-MODIFIED:20191004T073557Z
UID:30670-1560333600-1560349800@merav-gur-arie.com
SUMMARY:Feminine Strength - Workshop
DESCRIPTION:This workshop is for women who would like to find their strengths and qualities which naturally exist in them. It is for women who wish to reconnect to their own body or to dedicate some time to trust their inner wisdom. When we connect to ourselves; our body\, emotions and thoughts\, we become more centred and gain clarity for what we need and want. Our perception widens and the passion and joy of life are naturally experienced and expressed. \nIn this workshop\, women will explore and connect to their body and feminine strength in a safe environment\, creating a solid base from which to better handle any of their current life challenges. \nIn this workshop you will: \n\nDeepen your connection to the pelvis area\nLearn to quieten your mind without losing energy\nConnect to your experiences\, needs and wishes\nIdentify your individual strengths and qualities\nGet in touch with the healing powers within you to support healing of feminine physical conditions
URL:https://merav-gur-arie.com/event/femininestrength/
LOCATION:Pantarei Approach\, Winsstr. 60\, Berlin\, 10405\, Germany
CATEGORIES:Feminine Strength,Personal Sessions
ATTACH;FMTTYPE=image/jpeg:https://merav-gur-arie.com/wp-content/uploads/2018/09/©-Janine-Escher-_DSC5731.jpg
ORGANIZER;CN="Merav":MAILTO:merav@merav-gur-arie.com
END:VEVENT
BEGIN:VEVENT
DTSTART;TZID=Europe/Paris:20190308T110000
DTEND;TZID=Europe/Paris:20190308T133000
DTSTAMP:20260425T173939
CREATED:20190214T003056Z
LAST-MODIFIED:20190214T003056Z
UID:31088-1552042800-1552051800@merav-gur-arie.com
SUMMARY:Empowerment Morning for Women
DESCRIPTION:Celebrating the New Feminine Holiday on the 8th March – International Women’s Day \nWe live in a time of rapid change. We women get to have more opportunities and new doors are opening for us. In Berlin we even got ourselves a new day off. But with that in mind\, we also frequently face new challenges. \nThe international women’s day is a great occasion to connect with our feminine community\, strengthen ourselves and get inspired. It is an invitation to get in touch with our feelings and wishes\, with our intuition and inner wisdom and celebrate together.\nIn this morning we will move and feel our bodies\, chat and exchange experiences and\ninspirations with friends and sisters-women. \nProgram \n11:00 – Welcome Talk\n11:30 – Body Movement & Awareness Training\n12:15 – 13:00 – Intuition and Connection Workshop – Using Intuition to Strengthen Ourselves and Others\n13:00 – Get together\, meet\, talk and enjoy a light buffet \nThe program will include varied exercises of body & mind. We will move\, breath and talk\, all with the aim to energize our feminine strength. \nThe event is free of charge – You and your friends are invited!
URL:https://merav-gur-arie.com/event/empowerment-morning-for-women-2/
CATEGORIES:Feminine Strength,Personal Sessions
ATTACH;FMTTYPE=image/jpeg:https://merav-gur-arie.com/wp-content/uploads/2019/02/Womens-day-2019-site.jpg
ORGANIZER;CN="Merav":MAILTO:merav@merav-gur-arie.com
END:VEVENT
BEGIN:VEVENT
DTSTART;TZID=Europe/Paris:20181208T100000
DTEND;TZID=Europe/Paris:20181208T173000
DTSTAMP:20260425T173939
CREATED:20181029T124743Z
LAST-MODIFIED:20181203T104538Z
UID:30815-1544263200-1544290200@merav-gur-arie.com
SUMMARY:I Want - Workshop for Women
DESCRIPTION:This workshop is an experiential dive into your body\, feelings and wishes. It will give you tools to know better what is it that you want while taking into account the complexity of reality and your various needs. It will allow you to tap into your source of energy and desire. \n\nWhen we deeply sense what we want\, our energy and attention are naturally going towards it and everything falls into its place. \nIn the workshop we will work with these subjects:\nDeepening the connection to my feminine body\nSensing what I want\, in my body and allowing the intensity\nBringing together my different needs and passions\nFollowing my will while being attentive to my surroundings\nGrowing trust in myself\nExpressing my wishes confidently\n\nThe training in the workshop will include different body centered exercises\, talks and group work.
URL:https://merav-gur-arie.com/event/i-want-workshop-for-women/
LOCATION:Pantarei Approach\, Winsstr. 60\, Berlin\, 10405\, Germany
CATEGORIES:Feminine Strength
ATTACH;FMTTYPE=image/jpeg:https://merav-gur-arie.com/wp-content/uploads/2018/10/I-want-FB-2.jpg
ORGANIZER;CN="Merav":MAILTO:merav@merav-gur-arie.com
END:VEVENT
BEGIN:VEVENT
DTSTART;TZID=Europe/Paris:20181127T190000
DTEND;TZID=Europe/Paris:20181127T203000
DTSTAMP:20260425T173939
CREATED:20181029T124300Z
LAST-MODIFIED:20181029T124632Z
UID:30813-1543345200-1543350600@merav-gur-arie.com
SUMMARY:Making Conscious Decisions
DESCRIPTION:I am sure you know the feeling that you should already take a decision but you are clueless of how to choose. And when it comes to greater life decisions\, it can be daunting. It involves complexity\, contradicting wishes\, expectations and a big question mark regarding the future. It often comes with a risk; the risk of losing what you have or not managing to create the reality that you wish for. In these situations we can’t just make a logical decision. Our decision must integrate our (sometimes contradicting) emotions\, wishes\, insights and intuitions. We have to be convinced or want something enough to take the risk and deal with the consequences whatever they may be. \nI look at decision making as a process that takes place on parallel levels; creating clarity of what is good for us and what we want and deriving motivation from the situation around us\, allowing it to affect our decisions. Sometimes\, something has to happen so a decision is ripe and tangible for us. \nConnecting with our body\, allows us to dive into our emotions and wishes and achieve a wider perspective of ourselves and the situation we are facing. It allows us to create a conscious decision and gain the energy to choose and move forward.
URL:https://merav-gur-arie.com/event/making-conscious-decisions/
LOCATION:Space for Personal Development\, Greifswalder Str. 208\, Berlin\, 10405\, Germany
CATEGORIES:Feminine Strength,Personal Sessions
ATTACH;FMTTYPE=image/jpeg:https://merav-gur-arie.com/wp-content/uploads/2018/10/Descision-Making-FB.jpg
ORGANIZER;CN="Merav":MAILTO:merav@merav-gur-arie.com
END:VEVENT
BEGIN:VEVENT
DTSTART;TZID=Europe/Paris:20180830T190000
DTEND;TZID=Europe/Paris:20180830T210000
DTSTAMP:20260425T173939
CREATED:20180809T095211Z
LAST-MODIFIED:20180912T220515Z
UID:30640-1535655600-1535662800@merav-gur-arie.com
SUMMARY:Drawing Strength from My Past - Lecture
DESCRIPTION:One’s personal past is a huge mass of experiences of every nature and color\, experiences that we went through and were transformed by. It consists of the pains and hurts that we suffered and dealt with\, what we loved\, what we felt\, how we expressed our abilities and talents and everything that we were. \nOur mind can not remember all of these experiences\, but our body does. By consciously remembering different aspects and events in our past and letting our bodies join and experience those memories\, our sense of identity expands and more of our possibilities can become accessible to us. \nOwning my past and achieving an empowering approach to it allows me to go towards my future\, equipped with all my personal talents and wisdom I gained throughout my life. \nIn this lecture\, we will talk about incorporating empowering approaches to our past that will benefit our present and future. It will include some demonstration and exercises.
URL:https://merav-gur-arie.com/event/deriving-strength-from-my-past-lecture/
LOCATION:Space for Personal Development\, Greifswalder Str. 208\, Berlin\, 10405\, Germany
CATEGORIES:Feminine Strength,Personal Sessions
ATTACH;FMTTYPE=image/jpeg:https://merav-gur-arie.com/wp-content/uploads/2018/08/past-lecture.jpg
ORGANIZER;CN="Merav":MAILTO:merav@merav-gur-arie.com
END:VEVENT
BEGIN:VEVENT
DTSTART;TZID=UTC:20180623T150000
DTEND;TZID=UTC:20180624T180000
DTSTAMP:20260425T173939
CREATED:20180305T100403Z
LAST-MODIFIED:20180415T150918Z
UID:29397-1529766000-1529863200@merav-gur-arie.com
SUMMARY:The Intelligence of Emotions - A Workshop for Women
DESCRIPTION:Our emotions are at the heart of our individuality\,\nour self-perception and world view. They make us aware of what is right for us\, help our decision making\, inspire us and sometimes give an energy kick towards achieving a goal. They are part of our\nintelligence\, our creativity\, social life and more. But sometimes though\, we have the feeling that they are doing exactly the opposite and stand in our way or confuse us. \nIn this workshop we cultivate a respectful approach to our\nemotions and create a flow that increases confidence\,\nindividuality and clarity. \nome of the aspects we will work with in the workshop: \n\nGetting in touch with our emotions\, cultivating\na respectful approach\nGiving ourselves the permission to feel and express our emotions\nLetting the emotions flow while staying confident and grounded\nLearning to deal with the intensity of some of the emotions we normally consider negative\nReleasing emotions rooted in past events\nTrusting and listening to the intelligence conveyed within emotions\nFeeling our surroundings through our body\n\nThe workshop will include varied exercises of body & mind. We will move\, breath and discuss\,\nall with the aim to experience and better understand our emotions. It will be held in English.\nTime: Sat. Apr. 7th 15:00 -18:00 and  Sun. Apr. 8th 10:00-18:00
URL:https://merav-gur-arie.com/event/the-intelligence-of-emotions-a-workshop-for-women/
LOCATION:Space for Personal Development\, Greifswalder Str. 208\, Berlin\, 10405\, Germany
CATEGORIES:Feminine Strength
ATTACH;FMTTYPE=image/jpeg:https://merav-gur-arie.com/wp-content/uploads/2018/03/I-of-E-workshob-site.jpg
ORGANIZER;CN="Merav":MAILTO:merav@merav-gur-arie.com
END:VEVENT
BEGIN:VEVENT
DTSTART;TZID=Europe/Paris:20180614T190000
DTEND;TZID=Europe/Paris:20180614T210000
DTSTAMP:20260425T173939
CREATED:20180602T122421Z
LAST-MODIFIED:20180809T095718Z
UID:30560-1529002800-1529010000@merav-gur-arie.com
SUMMARY:What is Love? Relationships in the Age of Individuality and Personal Fullfilment
DESCRIPTION:We live in a place and in a time that individuality and self-fullfilment are much appreciated ideals. We value our personal freedom and we want to follow our emotions and desires. \nBut it might be that we also want to have meaningful and trustworthy relationships which mean that at times\, we put the interests of another person first. \nCreating a deeper awareness to our bodies\, can help us to have a wider perspective on what we really want. It allows us to follow our hearts and wishes while finding a way to include the people that are important for us and avoid unnecessary hurt. It also allows us to ask for the commitment that we wish for\, without feeling that we are restricting the freedom of someone else and leave when our needs are not respected. \nIn this lecture we will look how can we can navigate between personal freedom and commitment and create the relationships that we want.
URL:https://merav-gur-arie.com/event/what-is-love-relationships-in-the-age-of-individuality-and-personal-fullfilment/
LOCATION:Space for Personal Development\, Greifswalder Str. 208\, Berlin\, 10405\, Germany
CATEGORIES:Feminine Strength
ATTACH;FMTTYPE=image/jpeg:https://merav-gur-arie.com/wp-content/uploads/2018/06/Love-P1090504-FB.jpg
END:VEVENT
BEGIN:VEVENT
DTSTART;TZID=Europe/Paris:20180524T190000
DTEND;TZID=Europe/Paris:20180524T210000
DTSTAMP:20260425T173939
CREATED:20180429T221600Z
LAST-MODIFIED:20180429T222256Z
UID:30524-1527188400-1527195600@merav-gur-arie.com
SUMMARY:Crossing through Differences & Disagreement in Relationships
DESCRIPTION:Even relationships that start with great love and intimacy might stumble over differences and disagreements. This can lead to miscommunication\, frustration and distrust that could put the whole relationship in question. \nUsing learned techniques and exercises guide our bodies to tap into our personal resources\, allowing us to digest the emotions that rise in those difficult situations and find a fruitful way to express our feelings and wishes. It allows us to rise above the immediate turbulence and have a wide perspective on the relationship and what is important for us and follow our inner compass to find the best way to cross through these difficulties. \nIn this lecture we will look at the subject through a body centered approach and practice exercises that expand our perception of relationships and reconnect to our inner guide.
URL:https://merav-gur-arie.com/event/crossing-through-differences-disagreement-in-relationships/
LOCATION:Space for Personal Development\, Greifswalder Str. 208\, Berlin\, 10405\, Germany
CATEGORIES:Feminine Strength
ATTACH;FMTTYPE=image/jpeg:https://merav-gur-arie.com/wp-content/uploads/2018/04/©JanineEscherPhotography_MG_0456-Edit.jpg
END:VEVENT
BEGIN:VEVENT
DTSTART;TZID=Europe/Paris:20180426T190000
DTEND;TZID=Europe/Paris:20180426T210000
DTSTAMP:20260425T173939
CREATED:20180412T090936Z
LAST-MODIFIED:20180412T093554Z
UID:30480-1524769200-1524776400@merav-gur-arie.com
SUMMARY:Taking Care -                  A Lecture for Women
DESCRIPTION:Integrating my own needs and wishes within Partnerships and Families \nTaking care of ourselves and our needs is not always easy. Just taking the time\, being quiet for a brief moment to notice what our needs are and what could improve our feelings and well-being is already a lot. And then to find a way to integrate it in the busy lives we have\, in our profession\, within our families or with the needs of others around us.\nIt is somehow easier to tend others first\, check one more item in the endless “to do” list\, or just do something\, whatever priority it has. But when simply taking care of ourselves\, we often feel guilty\, it can seem unproductive\, even unnecessary. “How come I take time to sit/do my yoga practice/ go to a movie or talk with a friend when there is still so much to do?!”.\nThis lecture is about finding the balance between taking care of ourselves while being realistic and taking care that our surrounding will flourish as well. It is about nurturing ourselves and trusting that it will allow us to be more efficient\, caring and loving\, successful and satisfied. \nThis lecture will introduce an empowering and open minded somatic approach to the subject and will give the participants some personal experience with it.
URL:https://merav-gur-arie.com/event/taking-care-lecture-for-women/
LOCATION:Space for Personal Development\, Greifswalder Str. 208\, Berlin\, 10405\, Germany
CATEGORIES:Feminine Strength
ATTACH;FMTTYPE=image/jpeg:https://merav-gur-arie.com/wp-content/uploads/2018/04/MG_0444-2-event.jpg
ORGANIZER;CN="Merav":MAILTO:merav@merav-gur-arie.com
END:VEVENT
BEGIN:VEVENT
DTSTART;TZID=UTC:20180308T183000
DTEND;TZID=UTC:20180308T210000
DTSTAMP:20260425T173939
CREATED:20180218T130656Z
LAST-MODIFIED:20190114T134528Z
UID:1009-1520533800-1520542800@merav-gur-arie.com
SUMMARY:International Women’s Day Celebration
DESCRIPTION:This was a year with outstanding feminine achievements!\nThe #metoo movement created a significant impact on how our\nsociety looks and deals with sexual harassment and assaults\nand brought women and feminine issues to the forefront of\npublic awareness.\nAnd without ignoring all that still needs to be changed and what\nwe want to achieve\, the 8th of March is a day to celebrate\,\nconnect with our feminine community and get empowered. \nProgram\n18:30 – Welcome\n18:45 – Vocal Freedom & Body Awareness – Workshop with Lea W. Frey & Claudia Munz\n19:45 – Feminine Identity; Redefining and Owning Femininity\n20:15 – My Feminine Identity – Workshop with Merav Gur Arie\n21:00 – Get together\, meet\, talk and enjoy a light buffet \nYou and your friends are invited!\nMerav Gur Arie – Personal development mentor\,\nLea W. Frey – Blue Voice\, www.leawfrey.de\nClaudia Munz – Women´s Lounge\, www.claudiamunz.de
URL:https://merav-gur-arie.com/event/international-womens-day-celebration/
LOCATION:Space for Personal Development\, Greifswalder Str. 208\, Berlin\, 10405\, Germany
CATEGORIES:Feminine Strength
ATTACH;FMTTYPE=image/jpeg:https://merav-gur-arie.com/wp-content/uploads/2018/02/International-Women’s-day-Celebration-2018-FB.jpg
ORGANIZER;CN="Merav":MAILTO:merav@merav-gur-arie.com
END:VEVENT
END:VCALENDAR